BEGIN:VCALENDAR
VERSION:2.0
PRODID:-//Fontana Divani Fashion Gallery - ECPv6.10.0//NONSGML v1.0//EN
CALSCALE:GREGORIAN
METHOD:PUBLISH
X-WR-CALNAME:Fontana Divani Fashion Gallery
X-ORIGINAL-URL:https://fontanadivani.it
X-WR-CALDESC:Eventi per Fontana Divani Fashion Gallery
REFRESH-INTERVAL;VALUE=DURATION:PT1H
X-Robots-Tag:noindex
X-PUBLISHED-TTL:PT1H
BEGIN:VTIMEZONE
TZID:Europe/Rome
BEGIN:DAYLIGHT
TZOFFSETFROM:+0100
TZOFFSETTO:+0200
TZNAME:CEST
DTSTART:20250330T010000
END:DAYLIGHT
BEGIN:STANDARD
TZOFFSETFROM:+0200
TZOFFSETTO:+0100
TZNAME:CET
DTSTART:20251026T010000
END:STANDARD
END:VTIMEZONE
BEGIN:VEVENT
DTSTART;TZID=Europe/Rome:20250228T173000
DTEND;TZID=Europe/Rome:20250228T200000
DTSTAMP:20260421T142337
CREATED:20250210T102630Z
LAST-MODIFIED:20250210T173033Z
UID:26197-1740763800-1740772800@fontanadivani.it
SUMMARY:1° INCONTRO CON PROFESSIONISTI DI INTERNI - “Il living perfetto”
DESCRIPTION:FONTANA DIVANI PRESENTA: UN CICLO DI INCONTRI CON PROFESSIONISTI DEL DESIGN DI INTERNI \nUn’esperienza esclusiva dedicata a chi ama l’interior design! Un ciclo di incontri unici con professionisti sempre diversi\, pronti a ispirarvi con idee\, consigli e tendenze per arredare al meglio la vostra casa. \nPrimo appuntamento: 28 febbraio ore 17:30 \nDove? Show-room Fontana Divani in Via Triumplina 258 a Brescia \nTema della prima serata: “il living perfetto” \nCon la partecipazione dei professionisti di Giallo Pastello\, studio di Interior Design di Brescia. \nA seguire\, un piccolo buffet in collaborazione con Cantina Olivini e Tomasoni\, per concludere la serata con un tocco di gusto. \n \n  \nATTENZIONE !! EVENTO GRATUITO A NUMERO CHIUSO.\nPer partecipare bisogna registrarsi qui sotto.\nINIZIO REGISTRAZIONI 10/02/2025 ore 19:00 
URL:https://fontanadivani.it/evento/1-incontro-con-professionisti-di-interni-il-living-perfetto/
LOCATION:Showroom Fashion Gallery\, Via Triumplina 258\, Brescia\, Brescia\, 25136\, Italy
ATTACH;FMTTYPE=image/png:https://fontanadivani.it/wp-content/uploads/2025/02/2-e1739208623779.png
ORGANIZER;CN="Fontana Divani":MAILTO:fontanadivani@gmail.com
END:VEVENT
END:VCALENDAR